Workbook

Sheet Form Usulan kegiatan
J1: Lampiran Berita Acara Rembug Stunting
A4: REKAPITULASI USULAN KEGIATAN PENCEGAHAN STUNTING TAHUN 2025
A6: NO | B6: JENIS KEGIATAN | C6: LOKASI | D6: VOL | F6: PERKIRAAN ANGGARAN | G6: SUMBER DANA
G7: APBDES | H7: APBD KAB | I7: APBD PROV | J7: APBN
A8: 1 | B8: 2 | C8: 3 | D8: 4 | F8: 5 | G8: 6 | H8: 7 | I8: 8 | J8: 9
A9: 1 | B9: Rapat FKD (Forum Kesehatan Desa) | C9: Ds. sumberjo | D9: 3 | E9: kali | F9: =SUM('2025'!N9:N15) -> 4757500 | G9: √
A10: 2 | B10: Analisa Data KPM dan MMD | C10: Ds. sumberjo | D10: 1 | E10: kali | F10: =SUM('2025'!N18:N24) -> 1952500 | G10: √
A11: 3 | B11: Rembug Stunting | C11: Ds. sumberjo | D11: 1 | E11: kali | F11: =SUM('2025'!N27:N33) -> 1952500 | G11: √
A12: 4 | B12: Survey Mawas Diri | C12: Ds. sumberjo | D12: 2100 | E12: rumah | F12: =((2100*2000)+21000+100000)*2 -> 8642000 | G12: √
A13: 5 | B13: GERMAS | C13: Ds. sumberjo | D13: - | F13: 1250000 | G13: √
A14: 6 | B14: POSYANDU ILP | C14: Ds. sumberjo | D14: 12 | E14: kali | F14: 89034000 | G14: √
A15: 7 | B15: POSBINDU | C15: Ds. sumberjo | D15: - | F15: =SUM('2025'!N80:N82) -> 6336000 | G15: √
A16: 8 | B16: Kelas Ibu Hamil | C16: Ds. sumberjo | D16: 11 | E16: kali | F16: =SUM('2025'!N85:N87) -> 3162500 | G16: √
A17: 9 | B17: Kelas Ibu Balita | C17: Ds. sumberjo | D17: 10 | E17: kali | F17: =SUM('2025'!N90:N92) -> 2875000 | G17: √
A18: 11 | B18: Penyuluhan Kesehatan | C18: Ds. sumberjo | D18: 1 | E18: kali | F18: =SUM('2025'!N96:N98) -> 512500 | G18: √
A19: 12 | B19: Pencegahan Stunting | C19: Ds. sumberjo | D19: 12 | E19: kali | F19: =SUM('2025'!N102:N112) -> 9340000 | G19: √
A20: 13 | B20: Kegiatan Gotong Royong | C20: Ds. sumberjo | D20: 6 | E20: kali | F20: =SUM('2025'!N115) -> 1200000 | G20: √
A21: 14 | B21: Pengelolaan-Pembinaan PAUD/BKB | C21: Ds. sumberjo | D21: 4/12 | E21: kali | F21: =SUM('2025'!N118:N120) -> 4320000 | G21: √
A22: 15 | B22: Jamban Sehat | C22: Ds. sumberjo | D22: 8 | E22: kk | F22: =SUM('2025'!N124) -> 16000000 | G22: √
C23: JUMLAH | F23: =SUM(F9:F22) -> 151334500
B27: Mengetahui, | J27: Rembang, 25 Juli 2024
B29: Kepala Desa | J29: Pimpinan Rapat
B30: SUMBERJO | J30: Koordinator RDS
B34: H. SLAMET RAHAYU, SH | J34: KARDI

Sheet 2025
A2: KEGIATAN KESEHATAN UNTUK PENYUSUNAN RKPDES DAN APBDES
A3: DESA SIAGA (PEMBERDAYAAN DAN PROMOSI KESEHATAN)
A4: TAHUN 2025
A6: NO | B6: KEGIATAN | E6: RINCIAN KEGIATAN (DANA DESA) | O6: WAKTU | P6: KETERANGAN
A8: 1 | B8: Rapat FKD (Forum Kesehatan Desa) | E8: a. | F8: Snack | O8: Catur wulan | P8: 3 kali dalam | R8: Januari | S8: Perencanaan Program Kerja sesuai usulan Musrenbangdes
F9: 33 | G9: org | H9: x | I9: 3 | J9: x | K9: 12500 | L9: = | M9: Rp. | N9: =F9*I9*K9 -> 1237500 | O9: 1,2,3 | P9: satu tahun | S9: fkd SDH PUNYA Pegangan RAB th. Berjalan
E10: b. | F10: Uang saku
F11: 33 | G11: org | H11: x | I11: 3 | J11: x | K11: 30000 | L11: = | M11: Rp. | N11: =F11*I11*K11 -> 2970000 | S11: Evaluasi kegiatan tribulan lalu | V11: dan rencana kegiatan Tribulan berikutnya
E12: c. | F12: Banner Rapat | S12: dan membagi blangko blangko serta usulan kegiatan tahun yang akan datang
F13: 1 | G13: bh | J13: x | K13: 100000 | L13: = | M13: Rp. | N13: =F13*K13 -> 100000
E14: d. | F14: Narasumber
F15: 1 | G15: org | H15: x | I15: 3 | J15: x | K15: 150000 | L15: = | M15: Rp. | N15: =F15*I15*K15 -> 450000
A17: 2 | B17: Analisa Data KPM dan MMD | E17: a. | F17: Snack | O17: Bulan Juli | P17: 1 kali dalam
B18: MMD | F18: 33 | G18: org | H18: x | I18: 1 | J18: x | K18: 12500 | L18: = | M18: Rp. | N18: =F18*I18*K18 -> 412500 | P18: satu tahun
E19: b. | F19: Uang saku | R19: 1 | T19: Bidan Desa
F20: 33 | G20: org | H20: x | I20: 1 | J20: x | K20: 30000 | L20: = | M20: Rp. | N20: =F20*I20*K20 -> 990000 | R20: 2 | T20: Kecamtan
E21: c. | F21: Narasumber | R21: 3 | T21: Ketua FKD
F22: 3 | G22: org | H22: x | I22: 1 | J22: x | K22: 150000 | L22: = | M22: Rp. | N22: =F22*I22*K22 -> 450000
E23: d. | F23: Banner Rapat
F24: 1 | G24: bh | J24: x | K24: 100000 | L24: = | M24: Rp. | N24: =F24*K24 -> 100000
A26: 3 | B26: Rembug Stunting | E26: a. | F26: Snack | O26: Bulan Juli | P26: 1 kali dalam
F27: 33 | G27: org | H27: x | I27: 1 | J27: x | K27: 12500 | L27: = | M27: Rp. | N27: =F27*I27*K27 -> 412500 | P27: satu tahun
E28: b. | F28: Uang saku | R28: 1 | T28: Bidan Desa
F29: 33 | G29: org | H29: x | I29: 1 | J29: x | K29: 30000 | L29: = | M29: Rp. | N29: =F29*I29*K29 -> 990000 | R29: 2 | T29: Kecamtan
E30: c. | F30: Narasumber | R30: 3 | T30: Ketua FKD
F31: 3 | G31: org | H31: x | I31: 1 | J31: x | K31: 150000 | L31: = | M31: Rp. | N31: =F31*I31*K31 -> 450000
E32: d. | F32: Banner Rapat
F33: 1 | G33: bh | J33: x | K33: 100000 | L33: = | M33: Rp. | N33: =F33*K33 -> 100000
A35: 4 | B35: Survey Mawas Diri | E35: a. | F35: Penggandaan blangko PHBS | O35: Bulan Juni | P35: 1 kali dalam
B36: a. | C36: Pendataan PHBS Rumah | F36: 2100 | G36: rmh | H36: : | I36: 20 | J36: x | K36: 200 | L36: = | M36: Rp. | N36: 4200000 | P36: satu tahun
C37: Tangga | E37: b. | F37: ATK
F38: 1 | G38: set | J38: x | K38: 100000 | L38: = | M38: Rp. | N38: =F38*K38 -> 100000
R39: Tribulan I
B40: b. | C40: Pemeriksaan Jentik Berkala | E40: a. | F40: Uang saku kader pendataan
C41: Semua Desa/kelurahan | F41: 2100 | G41: rmh | H41: x | I41: 1 | J41: x | K41: 2000 | L41: = | M41: Rp. | N41: =F41*I41*K41 -> 4200000 | R41: Tribulan IV
R42: SITUASIONAL
E43: b. | F43: Penggandaan blangko
F44: 2100 | G44: rmh | H44: : | I44: 20 | J44: x | K44: 200 | L44: = | M44: Rp. | N44: 21000 | R44: SITUASIONAL
E45: c. | F45: ATK (snelhekter plastik)
F46: 25 | G46: bh | J46: x | K46: 4000 | L46: = | M46: Rp. | N46: =F46*K46 -> 100000
...

Sheet Form Usulan kegiatan (2)
F3: Lampiran Berita Acara Rembug Stunting
A5: REKAPITULASI USULAN KEGIATAN PENCEGAHAN STUNTING TAHUN 2025
A7: NO | B7: JENIS KEGIATAN | C7: LOKASI | D7: VOL | E7: PERKIRAAN ANGGARAN | F7: SUMBER DANA
F8: APBDES | G8: APBD KAB | H8: APBD PROV | I8: APBN
A9: 1 | B9: 2 | C9: 3 | D9: 4 | E9: 5 | F9: 6 | G9: 7 | H9: 8 | I9: 9
A10: 1 | B10: Pengelolaan/Pembinaan Posyandu Remaja
A11: 2 | B11: Pengelolaan/Pembinaan Posyandu
B12: Peningkatan Kapasitas Kader
B13: Operasional Kegiatan
B14: Honor Kader
B15: Pemberian PMT
B16: Pengadaan Sarana Prasarana
A17: 3 | B17: Pengelolaan/Pembinaan PAUD/BKB
B18: Operasional Kegiatan
B19: Honor Guru
B20: Pengadaan Sarana Prasarana
A21: 4 | B21: Pengelolaan/Pembinaan KPM
B22: Operasional Kegiatan
B23: Honor KPM
B24: Peningkatan Kapasitas KPM
A25: 5 | B25: Pengelolaan/Pembinaan Kader Kesehatan lainnya
B26: Operasional Kegiatan
B27: Honor Kader
B28: Peningkatan Kapasitas Kader
A29: 5 | B29: Penyediaan Sarana Prasarana Air Bersih
A30: 6 | B30: Bantuan Jamban Sehat
A31: 8 | B31: Pembangunan Sanitasi
A32: 9
A33: 10
A34: 11
F36: …………………., …………………. 2024
B37: Mengetahui, | F37: Pimpinan Rapat
B38: Kepala Desa | F38: Koordinator RDS
B41: …………….. | F41: ………..
B54: .................................... | G54: ……………………

Sheet  Analisa Data KPM MMD 
A3: Susunan Acara Analisa Data KPM
A5: 1 | B5: Pembukaan
A6: 2 | B6: Indonesia Raya
A7: 3 | B7: Do'a
A8: 4 | B8: Sambutan Kades
A9: 5 | B9: Sambutan Kecamatan
A10: 6 | B10: KPM Menyampaikan hasil Laporan Vscore bulan Juni 2024
A11: 7 | B11: Laporan kegiatan Koordinator Koordinator FKD dan Bidan Desa
A12: 8 | B12: Diskusi dipimpin Ketua FKD / PD
B13: Untuk merumuskan usulan - usulan kegiatan Kesehatan di Desa Tahun 2025
A14: 9 | B14: Pembacaan hasil usulan - usulan Kegiatan Tahun 2025
A15: 10 | B15: Penutup
B19: Yang diundang pada Analisa Data KPM dan MMD
B20: - Kades
B21: - Pengurus FKD
B22: - Guru PAUD

Sheet Rembug Stunting 
A3: Susunan Acara Rembug Stunting bila ada Analisa Data KPM
A5: 1 | B5: Pembukaan
A6: 2 | B6: Indonesia Raya
A7: 3 | B7: Do'a
A8: 4 | B8: Sambutan Kades
A9: 5 | B9: Sambutan Kecamatan
A10: 6 | B10: Sambutan Puskesmas / Bidan
A11: 7 | B11: Laporan Ketua FKD Tentang Usulan - usulan Kegiatan Kesehatan Tahun 2025
B12: ( Format usulan sesuai surat Rembug Stunting )
A13: 8 | B13: Diskusi Pemilihan Usulan - usulan Prioritas yang akan dibawa ke RKPDes di pimpin PD
B14: ( Mengingatkan usulan Prioritas dari PAUD )
A15: 9 | B15: Tersusun & dibacakannya Usulan - Usulan Prioritas yang akan dibawa ke RKPDes
A16: 10 | B16: Penandatanganan Berita Acara Rembug Stunting
A17: 11 | B17: Penutup
B21: Yang diundang di Rembug Stunting
A22: 1 | B22: Unsur Pemdes
A23: 2 | B23: Perwakilan BPD
A24: 3 | B24: Unsur LKD ( LPMD,TP.PKK, Karang Taruna ,Posyandu,RT,RW )
A25: 4 | B25: Tokoh Agama
A26: 5 | B26: KPM
A27: 6 | B27: Ka. Puskemas / Bidan Desa
A28: 7 | B28: Kader Kesehatan FKD
A29: 8 | B29: PLKB Kecamatan
A30: 9 | B30: PPKBD, Sub. PPKBD
A31: 10 | B31: Guru PAUD
A32: 11 | B32: TPPS Desa
A33: 12 | B33: KP- SPAM dan/atau BUMDES yang bergerak dibidang pengelolaan air | I33: ( WIL.Rembang I Punjulharjo dan Tritunggal )
A34: 13 | B34: Kader dan/atau Penggerak Layanan Sosial dasar yang ada di Desa ( Kader Posyandu )

Sheet Jadwal Analisa Data KPM&MMD
A2: Jadwal Acara Analisa Data KPM Kecamatan Rembang 2024
A4: No | B4: Hari/Tanggal | C4: Desa | D4: Waktu | E4: Keterangan
B5: Rabu / 26 Juni 2024 | C5: Tritunggal | D5: 09.00 | E5: Tim 1
A6: 1 | B6: Selasa / 2 Juli 2024 | C6: Punjulharjo | D6: 08.30 | E6: Tim 1
C7: Pandean | D7: 08.30 | E7: Tim 2
C8: Turusgede | D8: 08.30 | E8: Tim 3
A9: 2 | B9: Rabu / 3 Juli 2024 | C9: Kedungrejo | D9: 08.30 | E9: Tim 1
C10: Tasikagung | D10: 08.30 | E10: Tim 2
C11: Weton | D11: 08.30 | E11: Tim 3
A12: 3 | B12: Jum'at / 5 Juli 2024 | C12: Tireman | D12: 08.30 | E12: Tim 1
C13: Sawahan | D13: 08.30 | E13: Tim 2
C14: Gedangan | D14: 08.30 | E14: Tim 3
A15: 4 | B15: Selasa/ 9 Juli 2024 | C15: Sridadi | D15: 08.30 | E15: Tim 1
C16: Kabongan Kidul | D16: 08.30 | E16: Tim 2
C17: Ngotet | D17: 08.30 | E17: Tim 3
A18: 5 | B18: Rabu/ 10 Juli 2024 | C18: Padaran | D18: 08.30 | E18: Tim 1
C19: Kabongan Lor | D19: 08.30 | E19: Tim 2
C20: Pulo | D20: 08.30 | E20: Tim 3
A21: 6 | B21: Kamis / 11 Juli 2024 | C21: Pasarbanggi | D21: 08.30 | E21: Tim 1
C22: Sumberjo | D22: 08.30 | E22: Tim 2
C23: Mondoteko | D23: 08.30 | E23: Tim 3
A24: 7 | B24: Jum'at / 12 Juli 2024 | C24: Kasreman | D24: 08.30 | E24: Tim 1
C25: Ketanggi | D25: 08.30 | E25: Tim 2
C26: Ngadem | D26: 08.30 | E26: Tim 3
A27: 8 | B27: Selasa/ 16 Juli 2024 | C27: Tlogomojo | D27: 08.30 | E27: Tim 1
C28: Sukoharjo | D28: 08.30 | E28: Tim 2
C29: Kumendung | D29: 08.30 | E29: Tim 3
A30: 9 | B30: Rabu / 17 Juli 2024 | C30: Waru | D30: 08.30 | E30: Tim 2
C31: Gegunung Wetan | D31: 08.30 | E31: Tim 3
B34: Tim 1 | C34: Tim 2 | D34: Tim 3
B36: Puskesmas ( Bidan) | C36: Puskesmas ( Bidan) | D36: Puskesmas ( Bidan)
B37: Kecamatan | C37: Kecamatan | D37: Kecamatan
B38: Bambang T | C38: Nurul F | D38: Lilik I
B39: PLD | C39: PLD | D39: PLD

Sheet Jadwal Rembug Stunting
A2: Jadwal Acara Rembug Stunting Kecamatan Rembang 2024
A4: No | B4: Hari/Tanggal | C4: Desa | D4: Waktu | E4: Keterangan
B5: Kamis / 27 Juni 2024 | C5: Tritunggal | D5: 09.00 | E5: Tim 1
A6: 1 | B6: Kamis/ 18 Juli 2024 | C6: Punjulharjo | D6: 08.30 | E6: Tim 1
C7: Pandean | D7: 08.30 | E7: Tim 2
C8: Turusgede | D8: 08.30 | E8: Tim 3
A9: 2 | B9: Jum'at / 19 Juli 2024 | C9: Kedungrejo | D9: 08.30 | E9: Tim 1
C10: Tasikagung | D10: 08.30 | E10: Tim 2
C11: Weton | D11: 08.30 | E11: Tim 3
A12: 3 | B12: Selasa / 22 Juli 2024 | C12: Tireman | D12: 08.30 | E12: Tim 1
C13: Sawahan | D13: 08.30 | E13: Tim 2
C14: Gedangan | D14: 08.30 | E14: Tim 3
A15: 4 | B15: Rabu/23 Juli 2024 | C15: Sridadi | D15: 08.30 | E15: Tim 1
C16: Kabongan Kidul | D16: 08.30 | E16: Tim 2
C17: Ngotet | D17: 08.30 | E17: Tim 3
A18: 5 | B18: Kamis/ 24 Juli 2024 | C18: Padaran | D18: 08.30 | E18: Tim 1
C19: Kabongan Lor | D19: 08.30 | E19: Tim 2
C20: Pulo | D20: 08.30 | E20: Tim 3
A21: 6 | B21: Jum'at / 25 Juli 2024 | C21: Pasarbanggi | D21: 08.30 | E21: Tim 1
C22: Sumberjo | D22: 08.30 | E22: Tim 2
C23: Mondoteko | D23: 08.30 | E23: Tim 3
A24: 7 | B24: Selasa / 29 Juli 2024 | C24: Kasreman | D24: 08.30 | E24: Tim 1
C25: Ketanggi | D25: 08.30 | E25: Tim 2
C26: Ngadem | D26: 08.30 | E26: Tim 3
A27: 8 | B27: Rabu/ 30 Juli 2024 | C27: Tlogomojo | D27: 08.30 | E27: Tim 1
C28: Sukoharjo | D28: 08.30 | E28: Tim 2
C29: Kumendung | D29: 08.30 | E29: Tim 3
A30: 9 | B30: Kamis / 31 Juli 2024 | C30: Waru | D30: 08.30 | E30: Tim 2
C31: Gegunung Wetan | D31: 08.30 | E31: Tim 3
B34: Tim 1 | C34: Tim 2 | D34: Tim 3
B36: Puskesmas ( Bidan) | C36: Puskesmas ( Bidan) | D36: Puskesmas ( Bidan)
B37: Kecamatan | C37: Kecamatan | D37: Kecamatan
B38: Bambang T | C38: Nurul F | D38: Lilik I
B39: PLD | C39: PLD | D39: PLD

Sheet BERITA ACARA
B4: ,
